| Back to the "Multiple platform build/check report" | [A] B C D E F G H I J K L M N O P Q R S T U V W X Y Z | 
| Package 20/462 | Hostname | OS / Arch | BUILD | CHECK | BUILD BIN | ||||
| affyio 1.21.1 Benjamin Milo Bolstad 
 | wilson2 | Linux (openSUSE 11.4) / x86_64 | OK | OK | |||||
| liverpool | Windows Server 2003 R2 (32-bit) / x64 | OK | OK | OK | |||||
| gewurz | Windows Server 2008 R2 Enterprise (64-bit) / x64 | [ OK ] | OK | OK | |||||
| pelham | Mac OS X Leopard (10.5.8) / i386 | OK | OK | OK | 
| Package: affyio | 
| Version: 1.21.1 | 
| Command: chmod a+r affyio -R && D:\biocbld\bbs-2.9-bioc\R\bin\R.exe CMD build --keep-empty-dirs --no-resave-data affyio | 
| StartedAt: 2011-05-09 09:47:49 -0700 (Mon, 09 May 2011) | 
| EndedAt: 2011-05-09 09:47:52 -0700 (Mon, 09 May 2011) | 
| EllapsedTime: 2.8 seconds | 
| RetCode: 0 | 
| Status: OK | 
| PackageFile: affyio_1.21.1.tar.gz | 
| PackageFileSize: 111.1 KiB | 
* checking for file 'affyio/DESCRIPTION' ... OK * preparing 'affyio': * checking DESCRIPTION meta-information ... OK * cleaning src * checking for LF line-endings in source and make files * checking for empty or unneeded directories * building 'affyio_1.21.1.tar.gz'