| VanillaICE 1.15.0 Robert Scharpf
 
 | Snapshot Date: 2011-05-09 07:20:56 -0700 (Mon, 09 May 2011) |  | URL: https://hedgehog.fhcrc.org/bioconductor/trunk/madman/Rpacks/VanillaICE |  | Last Changed Rev: 54810 / Revision: 55359 |  | Last Changed Date: 2011-04-13 18:14:51 -0700 (Wed, 13 Apr 2011) | 
 | wilson2 | Linux (openSUSE 11.4) / x86_64 | OK | OK |  | 
| liverpool | Windows Server 2003 R2 (32-bit) / x64 | OK | OK | OK | 
| gewurz | Windows Server 2008 R2 Enterprise (64-bit) / x64 | OK | OK | [ OK ] | 
| pelham | Mac OS X Leopard (10.5.8) / i386 | OK | OK | OK | 
* installing *source* package 'VanillaICE' ...
** libs
x86_64-w64-mingw32-gcc  -I"D:/biocbld/bbs-2.9-bioc/R/include"          -O2 -Wall  -std=gnu99 -c viterbi.c -o viterbi.o
viterbi.c: In function 'viterbi':
viterbi.c:61:34: warning: unused variable 'tp'
x86_64-w64-mingw32-gcc -shared -s -static-libgcc -o VanillaICE.dll tmp.def viterbi.o -lm -LD:/biocbld/bbs-2.9-bioc/R/bin/x64 -lR
installing to D:/biocbld/bbs-2.9-bioc/meat/VanillaICE.buildbin-libdir/VanillaICE/libs/x64
** R
** data
** inst
** preparing package for lazy loading
Attaching package: 'IRanges'
The following object(s) are masked from 'package:base':
    Map, cbind, eval, intersect, mapply, order, paste, pmax, pmax.int,
    pmin, pmin.int, rbind, rep.int, setdiff, table, union
Loading required package: Biobase
Welcome to Bioconductor
  Vignettes contain introductory material. To view, type
  'browseVignettes()'. To cite Bioconductor, see
  'citation("Biobase")' and for packages 'citation("pkgname")'.
Attaching package: 'Biobase'
The following object(s) are masked from 'package:IRanges':
    updateObject
================================================================================
Welcome to oligoClasses version 1.15.0
================================================================================
Large dataset support for 'oligo/crlmm': Disabled
     - Load 'ff'
================================================================================
Parallel computing support for 'oligo/crlmm': Disabled
     - Load 'ff'
     - Load 'snow'
     - Use options(cluster=makeCluster(...))
================================================================================
** help
*** installing help indices
** building package indices ...
*** tangling vignette sources ...
   'VanillaICE.Rnw' 
** testing if installed package can be loaded
================================================================================
Welcome to oligoClasses version 1.15.0
================================================================================
Large dataset support for 'oligo/crlmm': Disabled
     - Load 'ff'
================================================================================
Parallel computing support for 'oligo/crlmm': Disabled
     - Load 'ff'
     - Load 'snow'
     - Use options(cluster=makeCluster(...))
================================================================================
Welcome to VanillaICE version 1.15.0
* MD5 sums
packaged installation of 'VanillaICE' as VanillaICE_1.15.0.zip
* DONE (VanillaICE)