| SRAdb 1.7.0 Jack Zhu
 
 | Snapshot Date: 2011-05-09 07:20:56 -0700 (Mon, 09 May 2011) |  | URL: https://hedgehog.fhcrc.org/bioconductor/trunk/madman/Rpacks/SRAdb |  | Last Changed Rev: 54802 / Revision: 55359 |  | Last Changed Date: 2011-04-13 15:36:43 -0700 (Wed, 13 Apr 2011) | 
 | wilson2 | Linux (openSUSE 11.4) / x86_64 | OK | OK |  | 
| liverpool | Windows Server 2003 R2 (32-bit) / x64 | OK | OK | OK | 
| gewurz | Windows Server 2008 R2 Enterprise (64-bit) / x64 | OK | OK | OK | 
| pelham | Mac OS X Leopard (10.5.8) / i386 | OK | OK | [ OK ] | 
>>>>>>> 
>>>>>>> INSTALLATION WITH 'R CMD INSTALL --preclean --library=SRAdb.buildbin-libdir SRAdb_1.7.0.tar.gz'
>>>>>>> 
* installing *source* package ‘SRAdb’ ...
** R
** inst
** preparing package for lazy loading
Loading required package: DBI
Loading required package: bitops
Setting options('download.file.method'='curl')
** help
*** installing help indices
** building package indices ...
*** tangling vignette sources ...
   ‘SRAdb.Rnw’ 
** testing if installed package can be loaded
Setting options('download.file.method'='curl')
* DONE (SRAdb)