| Ringo 1.17.0 J. Toedling
 
 | Snapshot Date: 2011-05-09 07:20:56 -0700 (Mon, 09 May 2011) |  | URL: https://hedgehog.fhcrc.org/bioconductor/trunk/madman/Rpacks/Ringo |  | Last Changed Rev: 54810 / Revision: 55359 |  | Last Changed Date: 2011-04-13 18:14:51 -0700 (Wed, 13 Apr 2011) | 
 | wilson2 | Linux (openSUSE 11.4) / x86_64 | OK | OK |  | 
| liverpool | Windows Server 2003 R2 (32-bit) / x64 | OK | OK | OK | 
| gewurz | Windows Server 2008 R2 Enterprise (64-bit) / x64 | OK | OK | [ OK ] | 
| pelham | Mac OS X Leopard (10.5.8) / i386 | OK | OK | OK | 
* installing *source* package 'Ringo' ...
** libs
x86_64-w64-mingw32-g++  -I"D:/biocbld/bbs-2.9-bioc/R/include"          -O2 -Wall  -c mmeansd.cpp -o mmeansd.o
x86_64-w64-mingw32-g++  -I"D:/biocbld/bbs-2.9-bioc/R/include"          -O2 -Wall  -c mmedian.cpp -o mmedian.o
x86_64-w64-mingw32-gcc  -I"D:/biocbld/bbs-2.9-bioc/R/include"          -O2 -Wall  -std=gnu99 -c region_overlap.c -o region_overlap.o
x86_64-w64-mingw32-gcc  -I"D:/biocbld/bbs-2.9-bioc/R/include"          -O2 -Wall  -std=gnu99 -c ringo_init.c -o ringo_init.o
x86_64-w64-mingw32-g++ -shared -s -static-libgcc -o Ringo.dll tmp.def mmeansd.o mmedian.o region_overlap.o ringo_init.o -LD:/biocbld/bbs-2.9-bioc/R/bin/x64 -lR
installing to D:/biocbld/bbs-2.9-bioc/meat/Ringo.buildbin-libdir/Ringo/libs/x64
** R
** inst
** preparing package for lazy loading
Welcome to Bioconductor
  Vignettes contain introductory material. To view, type
  'browseVignettes()'. To cite Bioconductor, see
  'citation("Biobase")' and for packages 'citation("pkgname")'.
Loading required package: lattice
Attaching package: 'Matrix'
The following object(s) are masked from 'package:base':
    det
Creating a new generic function for "plot" in "Ringo"
Creating a new generic function for "get" in "Ringo"
Creating a new generic function for "ls" in "Ringo"
** help
*** installing help indices
** building package indices ...
*** tangling vignette sources ...
   'Ringo.Rnw' 
** testing if installed package can be loaded
* MD5 sums
packaged installation of 'Ringo' as Ringo_1.17.0.zip
* DONE (Ringo)