| RMAPPER 1.3.0 Heike Sichtig , Alberto Riva
 
 | Snapshot Date: 2011-05-09 07:20:56 -0700 (Mon, 09 May 2011) |  | URL: https://hedgehog.fhcrc.org/bioconductor/trunk/madman/Rpacks/RMAPPER |  | Last Changed Rev: 55079 / Revision: 55359 |  | Last Changed Date: 2011-04-25 15:19:45 -0700 (Mon, 25 Apr 2011) | 
 | wilson2 | Linux (openSUSE 11.4) / x86_64 | OK | OK |  | 
| liverpool | Windows Server 2003 R2 (32-bit) / x64 | OK | OK | OK | 
| gewurz | Windows Server 2008 R2 Enterprise (64-bit) / x64 | OK | OK | OK | 
| pelham | Mac OS X Leopard (10.5.8) / i386 | OK | OK | [ OK ] | 
>>>>>>> 
>>>>>>> INSTALLATION WITH 'R CMD INSTALL --preclean --library=RMAPPER.buildbin-libdir RMAPPER_1.3.0.tar.gz'
>>>>>>> 
* installing *source* package ‘RMAPPER’ ...
** R
** inst
** preparing package for lazy loading
** help
*** installing help indices
** building package indices ...
*** tangling vignette sources ...
   ‘readMAPPER.Rnw’ 
** testing if installed package can be loaded
* DONE (RMAPPER)