| OTUbase 1.3.0 Daniel Beck
 
 | Snapshot Date: 2011-05-09 07:20:56 -0700 (Mon, 09 May 2011) |  | URL: https://hedgehog.fhcrc.org/bioconductor/trunk/madman/Rpacks/OTUbase |  | Last Changed Rev: 54802 / Revision: 55359 |  | Last Changed Date: 2011-04-13 15:36:43 -0700 (Wed, 13 Apr 2011) | 
 | wilson2 | Linux (openSUSE 11.4) / x86_64 | OK | OK |  | 
| liverpool | Windows Server 2003 R2 (32-bit) / x64 | OK | OK | OK | 
| gewurz | Windows Server 2008 R2 Enterprise (64-bit) / x64 | OK | OK | OK | 
| pelham | Mac OS X Leopard (10.5.8) / i386 | OK | OK | [ OK ] | 
>>>>>>> 
>>>>>>> INSTALLATION WITH 'R CMD INSTALL --preclean --library=OTUbase.buildbin-libdir OTUbase_1.3.0.tar.gz'
>>>>>>> 
* installing *source* package ‘OTUbase’ ...
** R
** inst
** preparing package for lazy loading
Loading required package: IRanges
Attaching package: ‘IRanges’
The following object(s) are masked from ‘package:base’:
    Map, cbind, eval, intersect, mapply, order, paste, pmax, pmax.int,
    pmin, pmin.int, rbind, rep.int, setdiff, table, union
Loading required package: GenomicRanges
Loading required package: Biostrings
Loading required package: lattice
Loading required package: Rsamtools
Welcome to Bioconductor
  Vignettes contain introductory material. To view, type
  'browseVignettes()'. To cite Bioconductor, see
  'citation("Biobase")' and for packages 'citation("pkgname")'.
Attaching package: ‘Biobase’
The following object(s) are masked from ‘package:IRanges’:
    updateObject
This is vegan 1.17-10
** help
*** installing help indices
** building package indices ...
*** tangling vignette sources ...
   ‘Introduction_to_OTUbase.Rnw’ 
** testing if installed package can be loaded
================================================================================
Welcome to OTUbase version 1.3.0
* DONE (OTUbase)