MSnbase 1.1.7 Laurent Gatto
 | Snapshot Date: 2011-05-09 07:20:56 -0700 (Mon, 09 May 2011) |  | URL: https://hedgehog.fhcrc.org/bioconductor/trunk/madman/Rpacks/MSnbase |  | Last Changed Rev: 55356 / Revision: 55359 |  | Last Changed Date: 2011-05-09 04:24:06 -0700 (Mon, 09 May 2011) |  
  | wilson2  | Linux (openSUSE 11.4) / x86_64  |  OK  |  OK  |  | 
| liverpool  | Windows Server 2003 R2 (32-bit) / x64  |  OK  |  OK  |  OK  | 
| gewurz  | Windows Server 2008 R2 Enterprise (64-bit) / x64  |  OK  |  OK  |  OK  | 
| pelham  | Mac OS X Leopard (10.5.8) / i386  |  OK  |  OK  | [ OK ] | 
>>>>>>> 
>>>>>>> INSTALLATION WITH 'R CMD INSTALL --preclean --library=MSnbase.buildbin-libdir MSnbase_1.1.7.tar.gz'
>>>>>>> 
* installing *source* package ‘MSnbase’ ...
** R
** data
**  moving datasets to lazyload DB
** inst
** preparing package for lazy loading
Welcome to Bioconductor
  Vignettes contain introductory material. To view, type
  'browseVignettes()'. To cite Bioconductor, see
  'citation("Biobase")' and for packages 'citation("pkgname")'.
Loading required package: reshape
Loading required package: plyr
Attaching package: ‘reshape’
The following object(s) are masked from ‘package:plyr’:
    rename, round_any
Loading required package: grid
Loading required package: proto
Creating a new generic function for "plot" in "MSnbase"
** help
*** installing help indices
** building package indices ...
*** tangling vignette sources ...
   ‘MSnbase-demo.Rnw’ 
   ‘MSnbase-development.Rnw’ 
** testing if installed package can be loaded
* DONE (MSnbase)