GeneticsPed 1.15.0 David Henderson
 | Snapshot Date: 2011-05-09 07:20:56 -0700 (Mon, 09 May 2011) |  | URL: https://hedgehog.fhcrc.org/bioconductor/trunk/madman/Rpacks/GeneticsPed |  | Last Changed Rev: 54802 / Revision: 55359 |  | Last Changed Date: 2011-04-13 15:36:43 -0700 (Wed, 13 Apr 2011) |  
  | wilson2  | Linux (openSUSE 11.4) / x86_64  |  OK  |  OK  |  | 
| liverpool  | Windows Server 2003 R2 (32-bit) / x64  | [ OK ] |  OK  |  OK  | 
| gewurz  | Windows Server 2008 R2 Enterprise (64-bit) / x64  |  OK  |  WARNINGS  |  OK  | 
| pelham  | Mac OS X Leopard (10.5.8) / i386  |  OK  |  OK  |  OK  | 
* checking for file 'GeneticsPed/DESCRIPTION' ... OK
* preparing 'GeneticsPed':
* checking DESCRIPTION meta-information ... OK
* cleaning src
* installing the package to re-build vignettes
* creating vignettes ... OK
* cleaning src
* checking for LF line-endings in source and make files
* checking for empty or unneeded directories
* looking to see if a 'data/datalist' file should be added
* building 'GeneticsPed_1.15.0.tar.gz'