Bioconductor 1.1.4 Biocore Team c/o BioC user list
 | Snapshot Date: 2011-05-09 07:20:56 -0700 (Mon, 09 May 2011) |  | URL: https://hedgehog.fhcrc.org/bioconductor/trunk/madman/Rpacks/Bioconductor |  | Last Changed Rev: 55334 / Revision: 55359 |  | Last Changed Date: 2011-05-08 18:27:45 -0700 (Sun, 08 May 2011) |  
  | wilson2  | Linux (openSUSE 11.4) / x86_64  |  OK  |  OK  |  | 
| liverpool  | Windows Server 2003 R2 (32-bit) / x64  |  OK  |  OK  |  OK  | 
| gewurz  | Windows Server 2008 R2 Enterprise (64-bit) / x64  |  OK  |  OK  |  OK  | 
| pelham  | Mac OS X Leopard (10.5.8) / i386  |  OK  |  OK  | [ OK ] | 
>>>>>>> 
>>>>>>> INSTALLATION WITH 'R CMD INSTALL --preclean --library=Bioconductor.buildbin-libdir Bioconductor_1.1.4.tar.gz'
>>>>>>> 
* installing *source* package ‘Bioconductor’ ...
** R
** inst
** preparing package for lazy loading
** help
*** installing help indices
** building package indices ...
** testing if installed package can be loaded
Bioconductor package version 1.1.4 loaded, type ?biocLite for help
* DONE (Bioconductor)