| Back to the "Multiple platform build/check report" | A [B] C D E F G H I J K L M N O P Q R S T U V W X Y Z |
| Package 59/462 | Hostname | OS / Arch | BUILD | CHECK | BUILD BIN | ||||
| BiocCaseStudies 1.15.0 Biocore Team c/o BioC user list
| wilson2 | Linux (openSUSE 11.4) / x86_64 | OK | OK | |||||
| liverpool | Windows Server 2003 R2 (32-bit) / x64 | OK | OK | OK | |||||
| gewurz | Windows Server 2008 R2 Enterprise (64-bit) / x64 | [ OK ] | OK | OK | |||||
| pelham | Mac OS X Leopard (10.5.8) / i386 | OK | OK | OK |
| Package: BiocCaseStudies |
| Version: 1.15.0 |
| Command: chmod a+r BiocCaseStudies -R && D:\biocbld\bbs-2.9-bioc\R\bin\R.exe CMD build --keep-empty-dirs --no-resave-data BiocCaseStudies |
| StartedAt: 2011-05-09 11:17:57 -0700 (Mon, 09 May 2011) |
| EndedAt: 2011-05-09 11:17:59 -0700 (Mon, 09 May 2011) |
| EllapsedTime: 1.7 seconds |
| RetCode: 0 |
| Status: OK |
| PackageFile: BiocCaseStudies_1.15.0.tar.gz |
| PackageFileSize: 6.792 KiB |
* checking for file 'BiocCaseStudies/DESCRIPTION' ... OK * preparing 'BiocCaseStudies': * checking DESCRIPTION meta-information ... OK * checking for LF line-endings in source and make files * checking for empty or unneeded directories * building 'BiocCaseStudies_1.15.0.tar.gz'