| BUS 1.9.0 Yuanhua Liu
 
 | Snapshot Date: 2011-05-09 07:20:56 -0700 (Mon, 09 May 2011) |  | URL: https://hedgehog.fhcrc.org/bioconductor/trunk/madman/Rpacks/BUS |  | Last Changed Rev: 54802 / Revision: 55359 |  | Last Changed Date: 2011-04-13 15:36:43 -0700 (Wed, 13 Apr 2011) | 
 | wilson2 | Linux (openSUSE 11.4) / x86_64 | OK | OK |  | 
| liverpool | Windows Server 2003 R2 (32-bit) / x64 | OK | OK | OK | 
| gewurz | Windows Server 2008 R2 Enterprise (64-bit) / x64 | OK | OK | [ OK ] | 
| pelham | Mac OS X Leopard (10.5.8) / i386 | OK | OK | OK | 
* installing *source* package 'BUS' ...
** libs
x86_64-w64-mingw32-g++  -I"D:/biocbld/bbs-2.9-bioc/R/include"          -O2 -Wall  -c BUS.cpp -o BUS.o
x86_64-w64-mingw32-g++ -shared -s -static-libgcc -o BUS.dll tmp.def BUS.o -LD:/biocbld/bbs-2.9-bioc/R/bin/x64 -lR
installing to D:/biocbld/bbs-2.9-bioc/meat/BUS.buildbin-libdir/BUS/libs/x64
** R
** data
** inst
** preparing package for lazy loading
Loading required package: infotheo
** help
*** installing help indices
** building package indices ...
*** tangling vignette sources ...
   'bus.rnw' 
** testing if installed package can be loaded
* MD5 sums
packaged installation of 'BUS' as BUS_1.9.0.zip
* DONE (BUS)