AnnotationDbi 1.15.2 Biocore Team c/o BioC user list
Snapshot Date: 2011-05-09 07:20:56 -0700 (Mon, 09 May 2011) | URL: https://hedgehog.fhcrc.org/bioconductor/trunk/madman/Rpacks/AnnotationDbi | Last Changed Rev: 55164 / Revision: 55359 | Last Changed Date: 2011-04-29 11:33:23 -0700 (Fri, 29 Apr 2011) |
| wilson2 | Linux (openSUSE 11.4) / x86_64 | OK | OK | |
liverpool | Windows Server 2003 R2 (32-bit) / x64 | OK | OK | [ OK ] |
gewurz | Windows Server 2008 R2 Enterprise (64-bit) / x64 | OK | OK | OK |
pelham | Mac OS X Leopard (10.5.8) / i386 | OK | OK | OK |
* installing *source* package 'AnnotationDbi' ...
** R
** inst
** preparing package for lazy loading
Welcome to Bioconductor
Vignettes contain introductory material. To view, type
'browseVignettes()'. To cite Bioconductor, see
'citation("Biobase")' and for packages 'citation("pkgname")'.
Creating a new generic function for "toString" in "AnnotationDbi"
Creating a new generic function for "rev" in "AnnotationDbi"
Creating a new generic function for "colnames" in "AnnotationDbi"
Creating a new generic function for "subset" in "AnnotationDbi"
Creating a new generic function for "as.data.frame" in "AnnotationDbi"
Creating a new generic function for "head" in "AnnotationDbi"
Creating a new generic function for "tail" in "AnnotationDbi"
Creating a new generic function for "nrow" in "AnnotationDbi"
Creating a new generic function for "ncol" in "AnnotationDbi"
Creating a new generic function for "as.list" in "AnnotationDbi"
Creating a new generic function for "ls" in "AnnotationDbi"
Creating a new generic function for "mget" in "AnnotationDbi"
Creating a new generic function for "eapply" in "AnnotationDbi"
Creating a new generic function for "get" in "AnnotationDbi"
Creating a new generic function for "exists" in "AnnotationDbi"
Creating a new generic function for "sample" in "AnnotationDbi"
** help
*** installing help indices
** building package indices ...
*** tangling vignette sources ...
'AnnotationDbi.Rnw'
'NewSchema.Rnw'
'SQLForge.Rnw'
'makeProbePackage.Rnw'
** testing if installed package can be loaded
* MD5 sums
packaged installation of 'AnnotationDbi' as AnnotationDbi_1.15.2.zip
* DONE (AnnotationDbi)