| ACME 2.9.0 Sean Davis
 
 | Snapshot Date: 2011-05-09 07:20:56 -0700 (Mon, 09 May 2011) |  | URL: https://hedgehog.fhcrc.org/bioconductor/trunk/madman/Rpacks/ACME |  | Last Changed Rev: 54802 / Revision: 55359 |  | Last Changed Date: 2011-04-13 15:36:43 -0700 (Wed, 13 Apr 2011) | 
 | wilson2 | Linux (openSUSE 11.4) / x86_64 | OK | OK |  | 
| liverpool | Windows Server 2003 R2 (32-bit) / x64 | OK | OK | [ OK ] | 
| gewurz | Windows Server 2008 R2 Enterprise (64-bit) / x64 | OK | OK | OK | 
| pelham | Mac OS X Leopard (10.5.8) / i386 | OK | OK | OK | 
* installing *source* package 'ACME' ...
** libs
gcc  -I"E:/biocbld/bbs-2.9-bioc/R/include"          -O3 -Wall  -std=gnu99 -c windowChisq.c -o windowChisq.o
windowChisq.c: In function 'windowChisq':
windowChisq.c:58:4: warning: suggest parentheses around comparison in operand of '&'
windowChisq.c:63:4: warning: suggest parentheses around comparison in operand of '&'
windowChisq.c:21:11: warning: unused variable 'xa'
windowChisq.c: At top level:
windowChisq.c:86:5: warning: initialization from incompatible pointer type
gcc -shared -s -static-libgcc -o ACME.dll tmp.def windowChisq.o -LE:/biocbld/bbs-2.9-bioc/R/bin/i386 -lR
installing to E:/biocbld/bbs-2.9-bioc/meat/ACME.buildbin-libdir/ACME/libs/i386
** R
** data
** inst
** preparing package for lazy loading
Welcome to Bioconductor
  Vignettes contain introductory material. To view, type
  'browseVignettes()'. To cite Bioconductor, see
  'citation("Biobase")' and for packages 'citation("pkgname")'.
Creating a new generic function for "print" in "ACME"
** help
*** installing help indices
** building package indices ...
*** tangling vignette sources ...
   'ACME.Rnw' 
** testing if installed package can be loaded
* MD5 sums
packaged installation of 'ACME' as ACME_2.9.0.zip
* DONE (ACME)