| Back to the "Multiple platform build/check report" |
| Package 91/106 | Hostname | OS / Arch | BUILD | CHECK | BUILD BIN | ||||
| rfcdmin 1.6.11 N. Le Meur
| lamb1 | Linux (openSUSE 11.3) / x86_64 | OK | WARNINGS | |||||
| gewurz | Windows Server 2008 R2 Enterprise SP1 (64-bit) / x64 | OK | WARNINGS | [ OK ] | |||||
| pelham | Mac OS X Leopard (10.5.8) / i386 | OK | WARNINGS | OK |
| Package: rfcdmin |
| Version: 1.6.11 |
| Command: rm -rf rfcdmin.buildbin-libdir && mkdir rfcdmin.buildbin-libdir && D:\biocbld\bbs-2.8-bioc\R\bin\R.exe CMD INSTALL --build --no-multiarch --library=rfcdmin.buildbin-libdir rfcdmin_1.6.11.tar.gz |
| StartedAt: 2011-10-19 04:07:17 -0700 (Wed, 19 Oct 2011) |
| EndedAt: 2011-10-19 04:07:37 -0700 (Wed, 19 Oct 2011) |
| EllapsedTime: 20.3 seconds |
| RetCode: 0 |
| Status: OK |
| PackageFile: rfcdmin_1.6.11.zip |
| PackageFileSize: 26.34 MiB |
* installing *source* package 'rfcdmin' ... ** data ** inst ** help *** installing help indices ** building package indices ... ** testing if installed package can be loaded * MD5 sums packaged installation of 'rfcdmin' as rfcdmin_1.6.11.zip * DONE (rfcdmin)