| Back to the "Multiple platform build/check report" |
| Package 79/106 | Hostname | OS / Arch | BUILD | CHECK | BUILD BIN | ||||
| mosaicsExample 0.99.3 Dongjun Chung
| lamb1 | Linux (openSUSE 11.3) / x86_64 | OK | OK | |||||
| gewurz | Windows Server 2008 R2 Enterprise SP1 (64-bit) / x64 | OK | OK | [ OK ] | |||||
| pelham | Mac OS X Leopard (10.5.8) / i386 | OK | OK | OK |
| Package: mosaicsExample |
| Version: 0.99.3 |
| Command: rm -rf mosaicsExample.buildbin-libdir && mkdir mosaicsExample.buildbin-libdir && D:\biocbld\bbs-2.8-bioc\R\bin\R.exe CMD INSTALL --build --no-multiarch --library=mosaicsExample.buildbin-libdir mosaicsExample_0.99.3.tar.gz |
| StartedAt: 2011-10-19 04:04:26 -0700 (Wed, 19 Oct 2011) |
| EndedAt: 2011-10-19 04:05:11 -0700 (Wed, 19 Oct 2011) |
| EllapsedTime: 44.9 seconds |
| RetCode: 0 |
| Status: OK |
| PackageFile: mosaicsExample_0.99.3.zip |
| PackageFileSize: 19.87 MiB |
* installing *source* package 'mosaicsExample' ... ** data ** inst ** help *** installing help indices ** building package indices ... ** testing if installed package can be loaded * MD5 sums packaged installation of 'mosaicsExample' as mosaicsExample_0.99.3.zip * DONE (mosaicsExample)