| Back to the "Multiple platform build/check report" |
| Package 71/106 | Hostname | OS / Arch | BUILD | CHECK | BUILD BIN | ||||
| lumiBarnes 1.3.5 Pan Du
| lamb1 | Linux (openSUSE 11.3) / x86_64 | OK | OK | |||||
| gewurz | Windows Server 2008 R2 Enterprise SP1 (64-bit) / x64 | OK | OK | [ OK ] | |||||
| pelham | Mac OS X Leopard (10.5.8) / i386 | OK | OK | OK |
| Package: lumiBarnes |
| Version: 1.3.5 |
| Command: rm -rf lumiBarnes.buildbin-libdir && mkdir lumiBarnes.buildbin-libdir && D:\biocbld\bbs-2.8-bioc\R\bin\R.exe CMD INSTALL --build --no-multiarch --library=lumiBarnes.buildbin-libdir lumiBarnes_1.3.5.tar.gz |
| StartedAt: 2011-10-19 04:02:29 -0700 (Wed, 19 Oct 2011) |
| EndedAt: 2011-10-19 04:02:47 -0700 (Wed, 19 Oct 2011) |
| EllapsedTime: 17.5 seconds |
| RetCode: 0 |
| Status: OK |
| PackageFile: lumiBarnes_1.3.5.zip |
| PackageFileSize: 4.991 MiB |
* installing *source* package 'lumiBarnes' ... ** data ** help *** installing help indices ** building package indices ... ** testing if installed package can be loaded * MD5 sums packaged installation of 'lumiBarnes' as lumiBarnes_1.3.5.zip * DONE (lumiBarnes)