| Back to the "Multiple platform build/check report" |
| Package 61/102 | Hostname | OS / Arch | BUILD | CHECK | BUILD BIN | ||||
| ind1KG 0.1.8 VJ Carey
| lamb1 | Linux (openSUSE 11.3) / x86_64 | OK | OK | |||||
| gewurz | Windows Server 2008 R2 Enterprise SP1 (64-bit) / x64 | OK | OK | [ OK ] | |||||
| pelham | Mac OS X Leopard (10.5.8) / i386 | OK | OK | OK |
| Package: ind1KG |
| Version: 0.1.8 |
| Command: rm -rf ind1KG.buildbin-libdir && mkdir ind1KG.buildbin-libdir && D:\biocbld\bbs-2.8-bioc\R\bin\R.exe CMD INSTALL --build --no-multiarch --library=ind1KG.buildbin-libdir ind1KG_0.1.8.tar.gz |
| StartedAt: 2011-10-01 04:08:45 -0700 (Sat, 01 Oct 2011) |
| EndedAt: 2011-10-01 04:10:16 -0700 (Sat, 01 Oct 2011) |
| EllapsedTime: 91.5 seconds |
| RetCode: 0 |
| Status: OK |
| PackageFile: ind1KG_0.1.8.zip |
| PackageFileSize: 180.8 MiB |
* installing *source* package 'ind1KG' ... ** data ** inst ** help *** installing help indices ** building package indices ... ** testing if installed package can be loaded * MD5 sums packaged installation of 'ind1KG' as ind1KG_0.1.8.zip * DONE (ind1KG)