humanStemCell 0.2.3 R. Gentleman
 | Snapshot Date: 2010-11-12 00:25:07 -0800 (Fri, 12 Nov 2010) |  | URL: https://hedgehog.fhcrc.org/bioc-data/trunk/experiment/pkgs/humanStemCell |  | Last Changed Rev: 906 / Revision: 1384 |  | Last Changed Date: 2009-07-24 17:41:39 -0700 (Fri, 24 Jul 2009) |  
  | lamb1  | Linux (openSUSE 11.3) / x86_64  |  OK  |  OK  |  | 
| liverpool  | Windows Server 2003 R2 (32-bit) / x64  |  OK  |  OK  | [ OK ] | 
| pelham  | Mac OS X Leopard (10.5.8) / i386  |  OK  |  OK  |  OK  | 
* installing *source* package 'humanStemCell' ...
  Using auto-selected zip option '--use-zip-data'
** data
** inst
** help
*** installing help indices
** building package indices ...
** testing if installed package can be loaded
* MD5 sums
packaged installation of 'humanStemCell' as humanStemCell_0.2.3.zip
* DONE (humanStemCell)