| Back to the "Multiple platform build/check report" |
| Package 62/106 | Hostname | OS / Arch | BUILD | CHECK | BUILD BIN | ||||
| humanStemCell 0.2.3 R. Gentleman
| lamb1 | Linux (openSUSE 11.3) / x86_64 | OK | OK | |||||
| gewurz | Windows Server 2008 R2 Enterprise SP1 (64-bit) / x64 | OK | OK | [ OK ] | |||||
| pelham | Mac OS X Leopard (10.5.8) / i386 | OK | OK | OK |
| Package: humanStemCell |
| Version: 0.2.3 |
| Command: rm -rf humanStemCell.buildbin-libdir && mkdir humanStemCell.buildbin-libdir && D:\biocbld\bbs-2.8-bioc\R\bin\R.exe CMD INSTALL --build --no-multiarch --library=humanStemCell.buildbin-libdir humanStemCell_0.2.3.tar.gz |
| StartedAt: 2011-10-19 03:59:38 -0700 (Wed, 19 Oct 2011) |
| EndedAt: 2011-10-19 04:02:04 -0700 (Wed, 19 Oct 2011) |
| EllapsedTime: 146.5 seconds |
| RetCode: 0 |
| Status: OK |
| PackageFile: humanStemCell_0.2.3.zip |
| PackageFileSize: 30.84 MiB |
* installing *source* package 'humanStemCell' ... ** data ** inst ** help *** installing help indices ** building package indices ... ** testing if installed package can be loaded * MD5 sums packaged installation of 'humanStemCell' as humanStemCell_0.2.3.zip * DONE (humanStemCell)