hgu133plus2barcodevecs 1.0.1 Matthew N. McCall
 | Snapshot Date: 2011-10-18 23:15:16 -0700 (Tue, 18 Oct 2011) |  | URL: https://hedgehog.fhcrc.org/bioc-data/trunk/experiment/pkgs/hgu133plus2barcodevecs |  | Last Changed Rev: 1354 / Revision: 1763 |  | Last Changed Date: 2010-10-14 05:32:33 -0700 (Thu, 14 Oct 2010) |  
  | lamb1  | Linux (openSUSE 11.3) / x86_64  |  OK  |  OK  |  | 
| gewurz  | Windows Server 2008 R2 Enterprise SP1 (64-bit) / x64  |  OK  | [ OK ] |  OK  | 
| pelham  | Mac OS X Leopard (10.5.8) / i386  |  OK  |  OK  |  OK  | 
* using log directory 'D:/biocbld/bbs-2.8-data-experiment/meat/hgu133plus2barcodevecs.Rcheck'
* using R version 2.13.2 (2011-09-30)
* using platform: x86_64-pc-mingw32 (64-bit)
* using session charset: ISO8859-1
* using option '--no-vignettes'
* checking for file 'hgu133plus2barcodevecs/DESCRIPTION' ... OK
* this is package 'hgu133plus2barcodevecs' version '1.0.1'
* checking package dependencies ... OK
* checking if this is a source package ... OK
* checking whether package 'hgu133plus2barcodevecs' can be installed ... OK
* checking installed package size ... OK
* checking package directory ... OK
* checking for portable file names ... OK
* checking DESCRIPTION meta-information ... OK
* checking top-level files ... OK
* checking index information ... OK
* checking package subdirectories ... OK
* checking whether the package can be loaded ... OK
* checking whether the package can be loaded with stated dependencies ... OK
* checking whether the package can be unloaded cleanly ... OK
* checking Rd files ... OK
* checking Rd metadata ... OK
* checking Rd cross-references ... OK
* checking for missing documentation entries ... OK
* checking for code/documentation mismatches ... OK
* checking Rd \usage sections ... OK
* checking Rd contents ... OK
* checking for unstated dependencies in examples ... OK
* checking contents of 'data' directory ... OK
* checking data for non-ASCII characters ... OK
* checking data for ASCII and uncompressed saves ... OK
* checking examples ... NONE
* checking PDF version of manual ... OK