| Back to the "Multiple platform build/check report" |
| Package 49/106 | Hostname | OS / Arch | BUILD | CHECK | BUILD BIN | ||||
| hapmap500knsp 1.3.3 Benilton Carvalho
| lamb1 | Linux (openSUSE 11.3) / x86_64 | OK | OK | |||||
| gewurz | Windows Server 2008 R2 Enterprise SP1 (64-bit) / x64 | [ OK ] | OK | OK | |||||
| pelham | Mac OS X Leopard (10.5.8) / i386 | OK | OK | OK |
| Package: hapmap500knsp |
| Version: 1.3.3 |
| Command: chmod a+r hapmap500knsp -R && D:\biocbld\bbs-2.8-bioc\R\bin\R.exe CMD build --keep-empty-dirs --no-resave-data hapmap500knsp |
| StartedAt: 2011-10-19 01:42:31 -0700 (Wed, 19 Oct 2011) |
| EndedAt: 2011-10-19 01:43:35 -0700 (Wed, 19 Oct 2011) |
| EllapsedTime: 64.7 seconds |
| RetCode: 0 |
| Status: OK |
| PackageFile: hapmap500knsp_1.3.3.tar.gz |
| PackageFileSize: 83.29 MiB |
* checking for file 'hapmap500knsp/DESCRIPTION' ... OK * preparing 'hapmap500knsp': * checking DESCRIPTION meta-information ... OK * checking for LF line-endings in source and make files * checking for empty or unneeded directories * building 'hapmap500knsp_1.3.3.tar.gz'