| Back to the "Multiple platform build/check report" |
| Package 39/106 | Hostname | OS / Arch | BUILD | CHECK | BUILD BIN | ||||
| gatingMLData 1.0.2 Nishant Gopalakrishnan
| lamb1 | Linux (openSUSE 11.3) / x86_64 | OK | OK | |||||
| gewurz | Windows Server 2008 R2 Enterprise SP1 (64-bit) / x64 | OK | OK | OK | |||||
| pelham | Mac OS X Leopard (10.5.8) / i386 | [ OK ] | OK | OK |
| Package: gatingMLData |
| Version: 1.0.2 |
| Command: /Library/Frameworks/R.framework/Versions/2.13/Resources/bin/R CMD build --keep-empty-dirs --no-resave-data gatingMLData |
| StartedAt: 2011-10-19 00:46:42 -0700 (Wed, 19 Oct 2011) |
| EndedAt: 2011-10-19 00:46:50 -0700 (Wed, 19 Oct 2011) |
| EllapsedTime: 7.2 seconds |
| RetCode: 0 |
| Status: OK |
| PackageFile: gatingMLData_1.0.2.tar.gz |
| PackageFileSize: 1.85 MiB |
* checking for file 'gatingMLData/DESCRIPTION' ... OK * preparing 'gatingMLData': * checking DESCRIPTION meta-information ... OK * checking for LF line-endings in source and make files * checking for empty or unneeded directories * building 'gatingMLData_1.0.2.tar.gz'