gageData 1.1.0 Weijun Luo
 | Snapshot Date: 2010-11-12 00:25:07 -0800 (Fri, 12 Nov 2010) |  | URL: https://hedgehog.fhcrc.org/bioc-data/trunk/experiment/pkgs/gageData |  | Last Changed Rev: 1374 / Revision: 1384 |  | Last Changed Date: 2010-10-21 07:22:11 -0700 (Thu, 21 Oct 2010) |  
  | lamb1  | Linux (openSUSE 11.3) / x86_64  |  OK  |  OK  |  | 
| liverpool  | Windows Server 2003 R2 (32-bit) / x64  |  OK  |  OK  | [ OK ] | 
| pelham  | Mac OS X Leopard (10.5.8) / i386  |  OK  |  OK  |  OK  | 
* installing *source* package 'gageData' ...
  Using auto-selected zip option '--use-zip-data'
** data
** help
*** installing help indices
** building package indices ...
** testing if installed package can be loaded
* MD5 sums
packaged installation of 'gageData' as gageData_1.1.0.zip
* DONE (gageData)