| Back to the "Multiple platform build/check report" |
| Package 35/106 | Hostname | OS / Arch | BUILD | CHECK | BUILD BIN | ||||
| flowWorkspaceData 0.99.4 Greg Finak
| lamb1 | Linux (openSUSE 11.3) / x86_64 | [ OK ] | WARNINGS | |||||
| gewurz | Windows Server 2008 R2 Enterprise SP1 (64-bit) / x64 | OK | WARNINGS | OK | |||||
| pelham | Mac OS X Leopard (10.5.8) / i386 | OK | WARNINGS | OK |
| Package: flowWorkspaceData |
| Version: 0.99.4 |
| Command: /home/biocbuild/bbs-2.8-bioc/R/bin/R CMD build --keep-empty-dirs --no-resave-data flowWorkspaceData |
| StartedAt: 2011-10-19 00:39:52 -0700 (Wed, 19 Oct 2011) |
| EndedAt: 2011-10-19 00:39:54 -0700 (Wed, 19 Oct 2011) |
| EllapsedTime: 2.5 seconds |
| RetCode: 0 |
| Status: OK |
| PackageFile: flowWorkspaceData_0.99.4.tar.gz |
| PackageFileSize: 6.355 MiB |
* checking for file ‘flowWorkspaceData/DESCRIPTION’ ... OK * preparing ‘flowWorkspaceData’: * checking DESCRIPTION meta-information ... OK * checking for LF line-endings in source and make files * checking for empty or unneeded directories * building ‘flowWorkspaceData_0.99.4.tar.gz’