| Back to the "Multiple platform build/check report" |
| Package 32/106 | Hostname | OS / Arch | BUILD | CHECK | BUILD BIN | ||||
| faahKO 1.2.6 Colin A. Smith
| lamb1 | Linux (openSUSE 11.3) / x86_64 | OK | OK | |||||
| gewurz | Windows Server 2008 R2 Enterprise SP1 (64-bit) / x64 | OK | OK | [ OK ] | |||||
| pelham | Mac OS X Leopard (10.5.8) / i386 | OK | OK | OK |
| Package: faahKO |
| Version: 1.2.6 |
| Command: rm -rf faahKO.buildbin-libdir && mkdir faahKO.buildbin-libdir && D:\biocbld\bbs-2.8-bioc\R\bin\R.exe CMD INSTALL --build --no-multiarch --library=faahKO.buildbin-libdir faahKO_1.2.6.tar.gz |
| StartedAt: 2011-10-19 03:40:49 -0700 (Wed, 19 Oct 2011) |
| EndedAt: 2011-10-19 03:42:16 -0700 (Wed, 19 Oct 2011) |
| EllapsedTime: 87.2 seconds |
| RetCode: 0 |
| Status: OK |
| PackageFile: faahKO_1.2.6.zip |
| PackageFileSize: 15.81 MiB |
* installing *source* package 'faahKO' ... ** R ** data ** inst ** preparing package for lazy loading ** help *** installing help indices ** building package indices ... ** testing if installed package can be loaded * MD5 sums packaged installation of 'faahKO' as faahKO_1.2.6.zip * DONE (faahKO)