| Back to the "Multiple platform build/check report" |
| Package 8/106 | Hostname | OS / Arch | BUILD | CHECK | BUILD BIN | ||||
| bladderbatch 1.0.0 Jeffrey T. Leek
| lamb1 | Linux (openSUSE 11.3) / x86_64 | OK | OK | |||||
| gewurz | Windows Server 2008 R2 Enterprise SP1 (64-bit) / x64 | OK | WARNINGS | [ OK ] | |||||
| pelham | Mac OS X Leopard (10.5.8) / i386 | OK | OK | OK |
| Package: bladderbatch |
| Version: 1.0.0 |
| Command: rm -rf bladderbatch.buildbin-libdir && mkdir bladderbatch.buildbin-libdir && D:\biocbld\bbs-2.8-bioc\R\bin\R.exe CMD INSTALL --build --no-multiarch --library=bladderbatch.buildbin-libdir bladderbatch_1.0.0.tar.gz |
| StartedAt: 2011-10-19 03:23:17 -0700 (Wed, 19 Oct 2011) |
| EndedAt: 2011-10-19 03:23:23 -0700 (Wed, 19 Oct 2011) |
| EllapsedTime: 5.5 seconds |
| RetCode: 0 |
| Status: OK |
| PackageFile: bladderbatch_1.0.0.zip |
| PackageFileSize: 9.146 MiB |
* installing *source* package 'bladderbatch' ... ** data ** inst ** help *** installing help indices ** building package indices ... ** testing if installed package can be loaded * MD5 sums packaged installation of 'bladderbatch' as bladderbatch_1.0.0.zip * DONE (bladderbatch)