| Back to the "Multiple platform build/check report" |
| Package 95/106 | Hostname | OS / Arch | BUILD | CHECK | BUILD BIN | ||||
| SpikeIn 1.4.4 Rafael A. Irizarry
| lamb1 | Linux (openSUSE 11.3) / x86_64 | OK | WARNINGS | |||||
| gewurz | Windows Server 2008 R2 Enterprise SP1 (64-bit) / x64 | OK | WARNINGS | [ OK ] | |||||
| pelham | Mac OS X Leopard (10.5.8) / i386 | OK | WARNINGS | OK |
| Package: SpikeIn |
| Version: 1.4.4 |
| Command: rm -rf SpikeIn.buildbin-libdir && mkdir SpikeIn.buildbin-libdir && D:\biocbld\bbs-2.8-bioc\R\bin\R.exe CMD INSTALL --build --no-multiarch --library=SpikeIn.buildbin-libdir SpikeIn_1.4.4.tar.gz |
| StartedAt: 2011-10-19 04:07:44 -0700 (Wed, 19 Oct 2011) |
| EndedAt: 2011-10-19 04:08:13 -0700 (Wed, 19 Oct 2011) |
| EllapsedTime: 29.1 seconds |
| RetCode: 0 |
| Status: OK |
| PackageFile: SpikeIn_1.4.4.zip |
| PackageFileSize: 63.05 MiB |
* installing *source* package 'SpikeIn' ... ** R ** data ** preparing package for lazy loading ** help *** installing help indices ** building package indices ... ** testing if installed package can be loaded * MD5 sums packaged installation of 'SpikeIn' as SpikeIn_1.4.4.zip * DONE (SpikeIn)