| Back to the "Multiple platform build/check report" |
| Package 23/98 | Hostname | OS / Arch | BUILD | CHECK | BUILD BIN | ||||
| DLBCL 1.3.1 Marcus Dittrich
| lamb1 | Linux (openSUSE 11.3) / x86_64 | OK | OK | |||||
| gewurz | Windows Server 2008 R2 Enterprise (64-bit) / x64 | OK | OK | OK | |||||
| petty | Mac OS X Snow Leopard (10.6.7) / i386 | OK | OK | [ OK ] |
| Package: DLBCL |
| Version: 1.3.1 |
| Command: mkdir DLBCL.buildbin-libdir && /Users/biocbuild/BBS/utils/build-universal.sh DLBCL_1.3.1.tar.gz /Library/Frameworks/R.framework/Versions/2.13/Resources/bin/R DLBCL.buildbin-libdir |
| StartedAt: 2011-07-03 00:58:58 -0700 (Sun, 03 Jul 2011) |
| EndedAt: 2011-07-03 00:59:02 -0700 (Sun, 03 Jul 2011) |
| EllapsedTime: 3.9 seconds |
| RetCode: 0 |
| Status: OK |
| PackageFile: DLBCL_1.3.1.tgz |
| PackageFileSize: 5.534 MiB |
>>>>>>> >>>>>>> INSTALLATION WITH 'R CMD INSTALL --preclean --library=DLBCL.buildbin-libdir DLBCL_1.3.1.tar.gz' >>>>>>> * installing *source* package 'DLBCL' ... ** data ** help *** installing help indices ** building package indices ... ** testing if installed package can be loaded * DONE (DLBCL)