| Back to the "Multiple platform build/check report" |
| Package 104/106 | Hostname | OS / Arch | BUILD | CHECK | BUILD BIN | ||||
| yeastGSData 0.1.5 R. Gentleman
| lamb1 | Linux (openSUSE 11.3) / x86_64 | OK | OK | |||||
| gewurz | Windows Server 2008 R2 Enterprise SP1 (64-bit) / x64 | OK | OK | [ OK ] | |||||
| pelham | Mac OS X Leopard (10.5.8) / i386 | OK | OK | OK |
| Package: yeastGSData |
| Version: 0.1.5 |
| Command: rm -rf yeastGSData.buildbin-libdir && mkdir yeastGSData.buildbin-libdir && D:\biocbld\bbs-2.8-bioc\R\bin\R.exe CMD INSTALL --build --no-multiarch --library=yeastGSData.buildbin-libdir yeastGSData_0.1.5.tar.gz |
| StartedAt: 2011-10-19 04:09:15 -0700 (Wed, 19 Oct 2011) |
| EndedAt: 2011-10-19 04:10:05 -0700 (Wed, 19 Oct 2011) |
| EllapsedTime: 49.4 seconds |
| RetCode: 0 |
| Status: OK |
| PackageFile: yeastGSData_0.1.5.zip |
| PackageFileSize: 8.134 MiB |
* installing *source* package 'yeastGSData' ... ** data ** inst ** help *** installing help indices ** building package indices ... ** testing if installed package can be loaded * MD5 sums packaged installation of 'yeastGSData' as yeastGSData_0.1.5.zip * DONE (yeastGSData)