| stjudem 1.2.2 Joern Toedling
 
 | Snapshot Date: 2011-10-18 23:15:16 -0700 (Tue, 18 Oct 2011) |  | URL: https://hedgehog.fhcrc.org/bioc-data/trunk/experiment/pkgs/stjudem |  | Last Changed Rev: 1059 / Revision: 1763 |  | Last Changed Date: 2009-10-13 23:40:40 -0700 (Tue, 13 Oct 2009) | 
 | lamb1 | Linux (openSUSE 11.3) / x86_64 | OK | WARNINGS |  | 
| gewurz | Windows Server 2008 R2 Enterprise SP1 (64-bit) / x64 | OK | WARNINGS | [ OK ] | 
| pelham | Mac OS X Leopard (10.5.8) / i386 | OK | WARNINGS | OK | 
* installing *source* package 'stjudem' ...
** R
** data
** preparing package for lazy loading
** help
*** installing help indices
** building package indices ...
** testing if installed package can be loaded
Loading data set 'stjude' ...
Type 'summary(stjude)' for an overview of the data structure.
See package 'macat' for examplary analyses.
* MD5 sums
packaged installation of 'stjudem' as stjudem_1.2.2.zip
* DONE (stjudem)