maqcExpression4plex 1.2.0 Benilton Carvalho
 | Snapshot Date: 2011-10-18 23:15:16 -0700 (Tue, 18 Oct 2011) |  | URL: https://hedgehog.fhcrc.org/bioc-data/trunk/experiment/pkgs/maqcExpression4plex |  | Last Changed Rev: 1239 / Revision: 1763 |  | Last Changed Date: 2010-07-06 18:11:50 -0700 (Tue, 06 Jul 2010) |  
  | lamb1  | Linux (openSUSE 11.3) / x86_64  |  OK  |  OK  |  | 
| gewurz  | Windows Server 2008 R2 Enterprise SP1 (64-bit) / x64  |  OK  |  OK  | [ OK ] | 
| pelham  | Mac OS X Leopard (10.5.8) / i386  |  OK  |  OK  |  OK  | 
* installing *source* package 'maqcExpression4plex' ...
** R
** inst
** preparing package for lazy loading
** help
*** installing help indices
** building package indices ...
** testing if installed package can be loaded
/-------------------------------------------\
| SAMPLE EXPRESSION DATA - MAQC/ HG18 - NGS |
|-------------------------------------------|
| Data provided by NimbleGen Systems (NGS). |
| This package is meant to be used only for |
| demonstration of BioConductor packages.   |
|-------------------------------------------|
| The contents of this package are provided |
| in good faith and the maintainer does not |
| warrant their accuracy.                   |
\-------------------------------------------/
* MD5 sums
packaged installation of 'maqcExpression4plex' as maqcExpression4plex_1.2.0.zip
* DONE (maqcExpression4plex)