humanStemCell 0.2.3 R. Gentleman
 | Snapshot Date: 2011-10-18 23:15:16 -0700 (Tue, 18 Oct 2011) |  | URL: https://hedgehog.fhcrc.org/bioc-data/trunk/experiment/pkgs/humanStemCell |  | Last Changed Rev: 906 / Revision: 1763 |  | Last Changed Date: 2009-07-24 17:41:39 -0700 (Fri, 24 Jul 2009) |  
  | lamb1  | Linux (openSUSE 11.3) / x86_64  | [ OK ] |  OK  |  | 
| gewurz  | Windows Server 2008 R2 Enterprise SP1 (64-bit) / x64  |  OK  |  OK  |  OK  | 
| pelham  | Mac OS X Leopard (10.5.8) / i386  |  OK  |  OK  |  OK  | 
* checking for file ‘humanStemCell/DESCRIPTION’ ... OK
* preparing ‘humanStemCell’:
* checking DESCRIPTION meta-information ... OK
* checking for LF line-endings in source and make files
* checking for empty or unneeded directories
* looking to see if a 'data/datalist' file should be added
* building ‘humanStemCell_0.2.3.tar.gz’