fibroEset 1.4.4 Sylvia Merk
 | Snapshot Date: 2011-07-02 23:15:14 -0700 (Sat, 02 Jul 2011) |  | URL: https://hedgehog.fhcrc.org/bioc-data/trunk/experiment/pkgs/fibroEset |  | Last Changed Rev: 976 / Revision: 1676 |  | Last Changed Date: 2009-09-15 11:40:21 -0700 (Tue, 15 Sep 2009) |  
  | lamb1  | Linux (openSUSE 11.3) / x86_64  |  OK  |  OK  |  | 
| gewurz  | Windows Server 2008 R2 Enterprise (64-bit) / x64  |  OK  |  OK  |  OK  | 
| petty  | Mac OS X Snow Leopard (10.6.7) / i386  |  OK  |  OK  | [ OK ] | 
>>>>>>> 
>>>>>>> INSTALLATION WITH 'R CMD INSTALL --preclean --library=fibroEset.buildbin-libdir fibroEset_1.4.4.tar.gz'
>>>>>>> 
* installing *source* package 'fibroEset' ...
** R
** data
** preparing package for lazy loading
Welcome to Bioconductor
  Vignettes contain introductory material. To view, type
  'browseVignettes()'. To cite Bioconductor, see
  'citation("Biobase")' and for packages 'citation("pkgname")'.
** help
*** installing help indices
** building package indices ...
** testing if installed package can be loaded
* DONE (fibroEset)