| Back to the "Multiple platform build/check report" |
| Package 23/84 | Hostname | OS / Arch | BUILD | CHECK | BUILD BIN | ||||
| faahKO 1.2.5 Colin A. Smith
| lamb1 | Linux (openSUSE 11.3) / x86_64 | OK | WARNINGS | |||||
| liverpool | Windows Server 2003 R2 (32-bit) / x64 | [ OK ] | WARNINGS | OK | |||||
| pelham | Mac OS X Leopard (10.5.8) / i386 | OK | WARNINGS | OK |
| Package: faahKO |
| Version: 1.2.5 |
| Command: chmod a+r faahKO -R && E:\biocbld\bbs-2.8-bioc\R\bin\R.exe CMD build faahKO |
| StartedAt: 2010-11-12 02:22:49 -0800 (Fri, 12 Nov 2010) |
| EndedAt: 2010-11-12 02:23:47 -0800 (Fri, 12 Nov 2010) |
| EllapsedTime: 57.5 seconds |
| RetCode: 0 |
| Status: OK |
| PackageFile: faahKO_1.2.5.tar.gz |
| PackageFileSize: 15.59 MiB |
* checking for file 'faahKO/DESCRIPTION' ... OK * preparing 'faahKO': * checking DESCRIPTION meta-information ... OK * checking for LF line-endings in source and make files * checking for empty or unneeded directories * building 'faahKO_1.2.5.tar.gz'