| Back to the "Multiple platform build/check report" | 
| Package 29/106 | Hostname | OS / Arch | BUILD | CHECK | BUILD BIN | ||||
| ecoliLeucine 1.2.5 Laurent Gautier 
  | lamb1 | Linux (openSUSE 11.3) / x86_64 | OK | OK | |||||
| gewurz | Windows Server 2008 R2 Enterprise SP1 (64-bit) / x64 | OK | OK | [ OK ] | |||||
| pelham | Mac OS X Leopard (10.5.8) / i386 | OK | OK | OK | 
| Package: ecoliLeucine | 
| Version: 1.2.5 | 
| Command: rm -rf ecoliLeucine.buildbin-libdir && mkdir ecoliLeucine.buildbin-libdir && D:\biocbld\bbs-2.8-bioc\R\bin\R.exe CMD INSTALL --build --no-multiarch --library=ecoliLeucine.buildbin-libdir ecoliLeucine_1.2.5.tar.gz | 
| StartedAt: 2011-10-19 03:39:30 -0700 (Wed, 19 Oct 2011) | 
| EndedAt: 2011-10-19 03:39:36 -0700 (Wed, 19 Oct 2011) | 
| EllapsedTime: 5.6 seconds | 
| RetCode: 0 | 
| Status: OK | 
| PackageFile: ecoliLeucine_1.2.5.zip | 
| PackageFileSize: 5.943 MiB | 
* installing *source* package 'ecoliLeucine' ... ** data ** help *** installing help indices ** building package indices ... ** testing if installed package can be loaded * MD5 sums packaged installation of 'ecoliLeucine' as ecoliLeucine_1.2.5.zip * DONE (ecoliLeucine)