| Back to the "Multiple platform build/check report" |
| Package 18/106 | Hostname | OS / Arch | BUILD | CHECK | BUILD BIN | ||||
| ceu1kg 0.0.25 VJ Carey
| lamb1 | Linux (openSUSE 11.3) / x86_64 | OK | OK | |||||
| gewurz | Windows Server 2008 R2 Enterprise SP1 (64-bit) / x64 | OK | WARNINGS | [ OK ] | |||||
| pelham | Mac OS X Leopard (10.5.8) / i386 | OK | OK | OK |
| Package: ceu1kg |
| Version: 0.0.25 |
| Command: rm -rf ceu1kg.buildbin-libdir && mkdir ceu1kg.buildbin-libdir && D:\biocbld\bbs-2.8-bioc\R\bin\R.exe CMD INSTALL --build --no-multiarch --library=ceu1kg.buildbin-libdir ceu1kg_0.0.25.tar.gz |
| StartedAt: 2011-10-19 03:28:31 -0700 (Wed, 19 Oct 2011) |
| EndedAt: 2011-10-19 03:31:50 -0700 (Wed, 19 Oct 2011) |
| EllapsedTime: 198.7 seconds |
| RetCode: 0 |
| Status: OK |
| PackageFile: ceu1kg_0.0.25.zip |
| PackageFileSize: 83.35 MiB |
* installing *source* package 'ceu1kg' ... ** data ** inst ** help *** installing help indices ** building package indices ... ** testing if installed package can be loaded * MD5 sums packaged installation of 'ceu1kg' as ceu1kg_0.0.25.zip * DONE (ceu1kg)