| Back to the "Multiple platform build/check report" |
| Package 13/106 | Hostname | OS / Arch | BUILD | CHECK | BUILD BIN | ||||
| breastCancerUPP 1.0.0 Markus Schroeder
| lamb1 | Linux (openSUSE 11.3) / x86_64 | OK | OK | |||||
| gewurz | Windows Server 2008 R2 Enterprise SP1 (64-bit) / x64 | OK | OK | [ OK ] | |||||
| pelham | Mac OS X Leopard (10.5.8) / i386 | OK | OK | OK |
| Package: breastCancerUPP |
| Version: 1.0.0 |
| Command: rm -rf breastCancerUPP.buildbin-libdir && mkdir breastCancerUPP.buildbin-libdir && D:\biocbld\bbs-2.8-bioc\R\bin\R.exe CMD INSTALL --build --no-multiarch --library=breastCancerUPP.buildbin-libdir breastCancerUPP_1.0.0.tar.gz |
| StartedAt: 2011-10-19 03:24:38 -0700 (Wed, 19 Oct 2011) |
| EndedAt: 2011-10-19 03:25:04 -0700 (Wed, 19 Oct 2011) |
| EllapsedTime: 25.8 seconds |
| RetCode: 0 |
| Status: OK |
| PackageFile: breastCancerUPP_1.0.0.zip |
| PackageFileSize: 29.6 MiB |
* installing *source* package 'breastCancerUPP' ... ** data ** help *** installing help indices ** building package indices ... ** testing if installed package can be loaded * MD5 sums packaged installation of 'breastCancerUPP' as breastCancerUPP_1.0.0.zip * DONE (breastCancerUPP)