| Back to the "Multiple platform build/check report" |
| Package 77/106 | Hostname | OS / Arch | BUILD | CHECK | BUILD BIN | ||||
| MEEBOdata 1.0.0 Agnes Paquet
| lamb1 | Linux (openSUSE 11.3) / x86_64 | OK | OK | |||||
| gewurz | Windows Server 2008 R2 Enterprise SP1 (64-bit) / x64 | OK | OK | [ OK ] | |||||
| pelham | Mac OS X Leopard (10.5.8) / i386 | OK | OK | OK |
| Package: MEEBOdata |
| Version: 1.0.0 |
| Command: rm -rf MEEBOdata.buildbin-libdir && mkdir MEEBOdata.buildbin-libdir && D:\biocbld\bbs-2.8-bioc\R\bin\R.exe CMD INSTALL --build --no-multiarch --library=MEEBOdata.buildbin-libdir MEEBOdata_1.0.0.tar.gz |
| StartedAt: 2011-10-19 04:04:13 -0700 (Wed, 19 Oct 2011) |
| EndedAt: 2011-10-19 04:04:24 -0700 (Wed, 19 Oct 2011) |
| EllapsedTime: 10.7 seconds |
| RetCode: 0 |
| Status: OK |
| PackageFile: MEEBOdata_1.0.0.zip |
| PackageFileSize: 6.875 MiB |
* installing *source* package 'MEEBOdata' ... ** data ** inst ** help *** installing help indices ** building package indices ... ** testing if installed package can be loaded * MD5 sums packaged installation of 'MEEBOdata' as MEEBOdata_1.0.0.zip * DONE (MEEBOdata)