| Back to the "Multiple platform build/check report" |
| Package 60/106 | Hostname | OS / Arch | BUILD | CHECK | BUILD BIN | ||||
| HIVcDNAvantWout03 1.2.3 Chris Fraley
| lamb1 | Linux (openSUSE 11.3) / x86_64 | OK | OK | |||||
| gewurz | Windows Server 2008 R2 Enterprise SP1 (64-bit) / x64 | OK | OK | [ OK ] | |||||
| pelham | Mac OS X Leopard (10.5.8) / i386 | OK | OK | OK |
| Package: HIVcDNAvantWout03 |
| Version: 1.2.3 |
| Command: rm -rf HIVcDNAvantWout03.buildbin-libdir && mkdir HIVcDNAvantWout03.buildbin-libdir && D:\biocbld\bbs-2.8-bioc\R\bin\R.exe CMD INSTALL --build --no-multiarch --library=HIVcDNAvantWout03.buildbin-libdir HIVcDNAvantWout03_1.2.3.tar.gz |
| StartedAt: 2011-10-19 03:59:11 -0700 (Wed, 19 Oct 2011) |
| EndedAt: 2011-10-19 03:59:19 -0700 (Wed, 19 Oct 2011) |
| EllapsedTime: 8.5 seconds |
| RetCode: 0 |
| Status: OK |
| PackageFile: HIVcDNAvantWout03_1.2.3.zip |
| PackageFileSize: 1.72 MiB |
* installing *source* package 'HIVcDNAvantWout03' ... ** data ** inst ** help *** installing help indices ** building package indices ... ** testing if installed package can be loaded * MD5 sums packaged installation of 'HIVcDNAvantWout03' as HIVcDNAvantWout03_1.2.3.zip * DONE (HIVcDNAvantWout03)