| Back to the "Multiple platform build/check report" |
| Package 42/106 | Hostname | OS / Arch | BUILD | CHECK | BUILD BIN | ||||
| GGdata 1.0.16 VJ Carey
| lamb1 | Linux (openSUSE 11.3) / x86_64 | OK | WARNINGS | |||||
| gewurz | Windows Server 2008 R2 Enterprise SP1 (64-bit) / x64 | OK | WARNINGS | [ OK ] | |||||
| pelham | Mac OS X Leopard (10.5.8) / i386 | OK | WARNINGS | OK |
| Package: GGdata |
| Version: 1.0.16 |
| Command: rm -rf GGdata.buildbin-libdir && mkdir GGdata.buildbin-libdir && D:\biocbld\bbs-2.8-bioc\R\bin\R.exe CMD INSTALL --build --no-multiarch --library=GGdata.buildbin-libdir GGdata_1.0.16.tar.gz |
| StartedAt: 2011-10-19 03:44:07 -0700 (Wed, 19 Oct 2011) |
| EndedAt: 2011-10-19 03:45:04 -0700 (Wed, 19 Oct 2011) |
| EllapsedTime: 57.2 seconds |
| RetCode: 0 |
| Status: OK |
| PackageFile: GGdata_1.0.16.zip |
| PackageFileSize: 71.8 MiB |
* installing *source* package 'GGdata' ... ** R ** data ** inst ** preparing package for lazy loading ** help *** installing help indices ** building package indices ... ** testing if installed package can be loaded * MD5 sums packaged installation of 'GGdata' as GGdata_1.0.16.zip * DONE (GGdata)