| rflowcyt 1.24.0 N. LeMeur
 
 | Snapshot Date: 2011-10-20 07:20:33 -0700 (Thu, 20 Oct 2011) |  | URL: https://hedgehog.fhcrc.org/bioconductor/branches/RELEASE_2_8/madman/Rpacks/rflowcyt |  | Last Changed Rev: 54808 / Revision: 59457 |  | Last Changed Date: 2011-04-13 18:03:42 -0700 (Wed, 13 Apr 2011) | 
 | lamb1 | Linux (openSUSE 11.3) / x86_64 | OK | OK |  | 
| liverpool | Windows Server 2003 R2 (32-bit) / x64 | OK | OK | OK | 
| gewurz | Windows Server 2008 R2 Enterprise SP1 (64-bit) / x64 | OK | WARNINGS | [ OK ] | 
| pelham | Mac OS X Leopard (10.5.8) / i386 | OK | OK | OK | 
* installing *source* package 'rflowcyt' ...
** R
** inst
** preparing package for lazy loading
locfit 1.5-6 	 2010-01-20 
Scalable Robust Estimators with High Breakdown Point (version 1.3-01)
KernSmooth 2.23 loaded
Copyright M. P. Wand 1997-2009
** help
*** installing help indices
** building package indices ...
** testing if installed package can be loaded
locfit 1.5-6 	 2010-01-20 
Scalable Robust Estimators with High Breakdown Point (version 1.3-01)
*** Deprecation warning ***:
The package 'rflowcyt' is deprecated and will not be supported after Bioconductor release 2.4. 
    Similar functionality is provided in packages flowCore and flowViz .
* MD5 sums
packaged installation of 'rflowcyt' as rflowcyt_1.24.0.zip
* DONE (rflowcyt)