| Back to the "Multiple platform build/check report" | A B C D E F G H I J K L M N O P Q [R] S T U V W X Y Z | 
| Package 378/467 | Hostname | OS / Arch | BUILD | CHECK | BUILD BIN | ||||
| rHVDM 1.18.0 Martino Barenco 
 | lamb1 | Linux (openSUSE 11.3) / x86_64 | OK | OK | |||||
| liverpool | Windows Server 2003 R2 (32-bit) / x64 | OK | OK | OK | |||||
| gewurz | Windows Server 2008 R2 Enterprise SP1 (64-bit) / x64 | OK | WARNINGS | [ OK ] | |||||
| pelham | Mac OS X Leopard (10.5.8) / i386 | OK | OK | OK | 
| Package: rHVDM | 
| Version: 1.18.0 | 
| Command: rm -rf rHVDM.buildbin-libdir && mkdir rHVDM.buildbin-libdir && D:\biocbld\bbs-2.8-bioc\R\bin\R.exe CMD INSTALL --build --no-multiarch --library=rHVDM.buildbin-libdir rHVDM_1.18.0.tar.gz | 
| StartedAt: 2011-10-20 17:43:22 -0700 (Thu, 20 Oct 2011) | 
| EndedAt: 2011-10-20 17:43:29 -0700 (Thu, 20 Oct 2011) | 
| EllapsedTime: 6.9 seconds | 
| RetCode: 0 | 
| Status: OK | 
| PackageFile: rHVDM_1.18.0.zip | 
| PackageFileSize: 7.547 MiB | 
* installing *source* package 'rHVDM' ... ** R ** data ** inst ** preparing package for lazy loading ** help *** installing help indices ** building package indices ... ** testing if installed package can be loaded * MD5 sums packaged installation of 'rHVDM' as rHVDM_1.18.0.zip * DONE (rHVDM)