| plier 1.22.0 Crispin Miller
 
 | Snapshot Date: 2011-10-20 07:20:33 -0700 (Thu, 20 Oct 2011) |  | URL: https://hedgehog.fhcrc.org/bioconductor/branches/RELEASE_2_8/madman/Rpacks/plier |  | Last Changed Rev: 54800 / Revision: 59457 |  | Last Changed Date: 2011-04-13 15:27:35 -0700 (Wed, 13 Apr 2011) | 
 | lamb1 | Linux (openSUSE 11.3) / x86_64 | OK | OK |  | 
| liverpool | Windows Server 2003 R2 (32-bit) / x64 | OK | OK | OK | 
| gewurz | Windows Server 2008 R2 Enterprise SP1 (64-bit) / x64 | OK | OK | [ OK ] | 
| pelham | Mac OS X Leopard (10.5.8) / i386 | OK | OK | OK | 
* installing *source* package 'plier' ...
** libs
x86_64-w64-mingw32-g++ -I"D:/biocbld/bbs-2.8-bioc/R/include"          -O2 -Wall  -c affyplier.cpp -o affyplier.o
x86_64-w64-mingw32-g++ -I"D:/biocbld/bbs-2.8-bioc/R/include"          -O2 -Wall  -c plier_impl.cpp -o plier_impl.o
x86_64-w64-mingw32-g++ -I"D:/biocbld/bbs-2.8-bioc/R/include"          -O2 -Wall  -c plieralg.cpp -o plieralg.o
plieralg.cpp: In function 'long int NewtonPlier(plier_data*, double&)':
plieralg.cpp:910:9: warning: 'LogLikelihood' may be used uninitialized in this function
plieralg.cpp: At global scope:
plieralg.cpp:49:12: warning: 'g_ErrorCode' defined but not used
x86_64-w64-mingw32-g++ -I"D:/biocbld/bbs-2.8-bioc/R/include"          -O2 -Wall  -c rwrapper.cpp -o rwrapper.o
x86_64-w64-mingw32-g++ -shared -s -static-libgcc -o plier.dll tmp.def affyplier.o plier_impl.o plieralg.o rwrapper.o -LD:/biocbld/bbs-2.8-bioc/R/bin/x64 -lR
installing to D:/biocbld/bbs-2.8-bioc/meat/plier.buildbin-libdir/plier/libs/x64
** R
** preparing package for lazy loading
Loading required package: Biobase
Welcome to Bioconductor
  Vignettes contain introductory material. To view, type
  'browseVignettes()'. To cite Bioconductor, see
  'citation("Biobase")' and for packages 'citation("pkgname")'.
** help
*** installing help indices
** building package indices ...
** testing if installed package can be loaded
* MD5 sums
packaged installation of 'plier' as plier_1.22.0.zip
* DONE (plier)