phenoDist 0.99.1 Xian Zhang
| Snapshot Date: 2011-03-10 11:15:09 -0800 (Thu, 10 Mar 2011) | | URL: https://hedgehog.fhcrc.org/bioconductor/trunk/madman/Rpacks/phenoDist | | Last Changed Rev: 50563 / Revision: 53573 | | Last Changed Date: 2010-10-29 11:51:33 -0700 (Fri, 29 Oct 2010) |
| lamb1 | Linux (openSUSE 11.3) / x86_64 | OK | OK | |
| liverpool | Windows Server 2003 R2 (32-bit) / x64 | OK | OK | OK |
| gewurz | Windows Server 2008 R2 Enterprise (64-bit) / x64 | ERROR | skipped | skipped |
| pelham | Mac OS X Leopard (10.5.8) / i386 | [ ERROR ] | skipped | skipped |
| petty | Mac OS X Snow Leopard (10.6.6) / i386 | ERROR | skipped | skipped |
* checking for file ‘phenoDist/DESCRIPTION’ ... OK
* preparing ‘phenoDist’:
* checking DESCRIPTION meta-information ... OK
* installing the package to re-build vignettes
-----------------------------------
ERROR: dependency ‘imageHTS’ is not available for package ‘phenoDist’
* removing ‘/private/tmp/Rtmpw341oA/Rinstcd48cd9/phenoDist’
-----------------------------------
ERROR: package installation failed