| iChip 1.6.0 Qianxing Mo
 
 | Snapshot Date: 2011-10-20 07:20:33 -0700 (Thu, 20 Oct 2011) |  | URL: https://hedgehog.fhcrc.org/bioconductor/branches/RELEASE_2_8/madman/Rpacks/iChip |  | Last Changed Rev: 54808 / Revision: 59457 |  | Last Changed Date: 2011-04-13 18:03:42 -0700 (Wed, 13 Apr 2011) | 
 | lamb1 | Linux (openSUSE 11.3) / x86_64 | OK | OK |  | 
| liverpool | Windows Server 2003 R2 (32-bit) / x64 | OK | OK | [ OK ] | 
| gewurz | Windows Server 2008 R2 Enterprise SP1 (64-bit) / x64 | OK | WARNINGS | OK | 
| pelham | Mac OS X Leopard (10.5.8) / i386 | OK | OK | OK | 
* installing *source* package 'iChip' ...
** libs
gcc -I"E:/biocbld/bbs-2.8-bioc/R/include"          -O3 -Wall  -std=gnu99 -c iChip.c -o iChip.o
iChip.c: In function 'iChip2':
iChip.c:24:69: warning: unused variable 'sdsignal'
iChip.c:24:61: warning: unused variable 'sdnoise'
iChip.c: In function 'iChip1':
iChip.c:188:20: warning: unused variable 'j'
gcc -shared -s -static-libgcc -o iChip.dll tmp.def iChip.o -LE:/biocbld/bbs-2.8-bioc/R/bin/i386 -lR
installing to E:/biocbld/bbs-2.8-bioc/meat/iChip.buildbin-libdir/iChip/libs/i386
** R
** data
**  moving datasets to lazyload DB
** demo
** inst
** preparing package for lazy loading
** help
*** installing help indices
** building package indices ...
** testing if installed package can be loaded
* MD5 sums
packaged installation of 'iChip' as iChip_1.6.0.zip
* DONE (iChip)