| Back to the "Multiple platform build/check report" | A B C D [E] F G H I J K L M N O P Q R S T U V W X Y Z | 
| Package 141/467 | Hostname | OS / Arch | BUILD | CHECK | BUILD BIN | ||||
| externalVector 1.18.0 Biocore Team c/o BioC user list 
 | lamb1 | Linux (openSUSE 11.3) / x86_64 | OK | OK | |||||
| liverpool | Windows Server 2003 R2 (32-bit) / x64 | OK | OK | OK | |||||
| gewurz | Windows Server 2008 R2 Enterprise SP1 (64-bit) / x64 | [ OK ] | OK | OK | |||||
| pelham | Mac OS X Leopard (10.5.8) / i386 | OK | OK | OK | 
| Package: externalVector | 
| Version: 1.18.0 | 
| Command: chmod a+r externalVector -R && D:\biocbld\bbs-2.8-bioc\R\bin\R.exe CMD build --keep-empty-dirs --no-resave-data externalVector | 
| StartedAt: 2011-10-20 10:00:28 -0700 (Thu, 20 Oct 2011) | 
| EndedAt: 2011-10-20 10:00:32 -0700 (Thu, 20 Oct 2011) | 
| EllapsedTime: 3.8 seconds | 
| RetCode: 0 | 
| Status: OK | 
| PackageFile: externalVector_1.18.0.tar.gz | 
| PackageFileSize: 83.56 KiB | 
* checking for file 'externalVector/DESCRIPTION' ... OK * preparing 'externalVector': * checking DESCRIPTION meta-information ... OK * cleaning src * checking for LF line-endings in source and make files * checking for empty or unneeded directories * building 'externalVector_1.18.0.tar.gz'