| Back to the "Multiple platform build/check report" | A [B] C D E F G H I J K L M N O P Q R S T U V W X Y Z |
| Package 53/444 | Hostname | OS / Arch | BUILD | CHECK | BUILD BIN | ||||
| biocLite 0.99.35 Biocore Team c/o BioC user list
| lamb1 | Linux (openSUSE 11.3) / x86_64 | OK | OK | |||||
| liverpool | Windows Server 2003 R2 (32-bit) / x64 | OK | OK | [ OK ] | |||||
| gewurz | Windows Server 2008 R2 Enterprise (64-bit) / x64 | OK | OK | OK | |||||
| pelham | Mac OS X Leopard (10.5.8) / i386 | OK | OK | OK | |||||
| petty | Mac OS X Snow Leopard (10.6.6) / i386 | OK | OK | OK |
| Package: biocLite |
| Version: 0.99.35 |
| Command: E:\biocbld\bbs-2.8-bioc\R\bin\R.exe CMD INSTALL --build --library=biocLite.buildbin-libdir biocLite_0.99.35.tar.gz |
| StartedAt: 2011-03-14 19:46:30 -0700 (Mon, 14 Mar 2011) |
| EndedAt: 2011-03-14 19:46:37 -0700 (Mon, 14 Mar 2011) |
| EllapsedTime: 6.3 seconds |
| RetCode: 0 |
| Status: OK |
| PackageFile: biocLite_0.99.35.zip |
| PackageFileSize: 15.36 KiB |
* installing *source* package 'biocLite' ... ** R ** preparing package for lazy loading ** help *** installing help indices ** building package indices ... ** testing if installed package can be loaded * MD5 sums packaged installation of 'biocLite' as biocLite_0.99.35.zip * DONE (biocLite)