| Back to the "Multiple platform build/check report" | [A] B C D E F G H I J K L M N O P Q R S T U V W X Y Z |
| Package 6/467 | Hostname | OS / Arch | BUILD | CHECK | BUILD BIN | ||||
| a4Reporting 1.1.1 Tobias Verbeke
| lamb1 | Linux (openSUSE 11.3) / x86_64 | OK | OK | |||||
| liverpool | Windows Server 2003 R2 (32-bit) / x64 | OK | OK | OK | |||||
| gewurz | Windows Server 2008 R2 Enterprise SP1 (64-bit) / x64 | OK | OK | OK | |||||
| pelham | Mac OS X Leopard (10.5.8) / i386 | [ OK ] | OK | OK |
| Package: a4Reporting |
| Version: 1.1.1 |
| Command: /Library/Frameworks/R.framework/Versions/2.13/Resources/bin/R CMD build --keep-empty-dirs --no-resave-data a4Reporting |
| StartedAt: 2011-10-20 12:56:53 -0700 (Thu, 20 Oct 2011) |
| EndedAt: 2011-10-20 12:56:55 -0700 (Thu, 20 Oct 2011) |
| EllapsedTime: 1.3 seconds |
| RetCode: 0 |
| Status: OK |
| PackageFile: a4Reporting_1.1.1.tar.gz |
| PackageFileSize: 5.141 KiB |
* checking for file 'a4Reporting/DESCRIPTION' ... OK * preparing 'a4Reporting': * checking DESCRIPTION meta-information ... OK * checking for LF line-endings in source and make files * checking for empty or unneeded directories * building 'a4Reporting_1.1.1.tar.gz'