a4Classif 1.1.3 Tobias Verbeke
 | Snapshot Date: 2011-10-20 07:20:33 -0700 (Thu, 20 Oct 2011) |  | URL: https://hedgehog.fhcrc.org/bioconductor/branches/RELEASE_2_8/madman/Rpacks/a4Classif |  | Last Changed Rev: 56047 / Revision: 59457 |  | Last Changed Date: 2011-06-08 08:23:51 -0700 (Wed, 08 Jun 2011) |  
  | lamb1  | Linux (openSUSE 11.3) / x86_64  | [ OK ] |  WARNINGS  |  | 
| liverpool  | Windows Server 2003 R2 (32-bit) / x64  |  OK  |  WARNINGS  |  OK  | 
| gewurz  | Windows Server 2008 R2 Enterprise SP1 (64-bit) / x64  |  OK  |  WARNINGS  |  OK  | 
| pelham  | Mac OS X Leopard (10.5.8) / i386  |  OK  |  WARNINGS  |  OK  |