| a4Base 1.0.1 Tobias Verbeke
 
 | Snapshot Date: 2011-10-20 07:20:33 -0700 (Thu, 20 Oct 2011) |  | URL: https://hedgehog.fhcrc.org/bioconductor/branches/RELEASE_2_8/madman/Rpacks/a4Base |  | Last Changed Rev: 54837 / Revision: 59457 |  | Last Changed Date: 2011-04-14 10:46:47 -0700 (Thu, 14 Apr 2011) | 
 | lamb1 | Linux (openSUSE 11.3) / x86_64 | OK | WARNINGS |  | 
| liverpool | Windows Server 2003 R2 (32-bit) / x64 | OK | WARNINGS | [ OK ] | 
| gewurz | Windows Server 2008 R2 Enterprise SP1 (64-bit) / x64 | OK | ERROR | OK | 
| pelham | Mac OS X Leopard (10.5.8) / i386 | OK | WARNINGS | OK | 
* installing *source* package 'a4Base' ...
** R
** data
** inst
** preparing package for lazy loading
mpm version 1.0-18
Warning: replacing previous import 'head' when loading 'utils'
Warning: replacing previous import 'tail' when loading 'utils'
** help
*** installing help indices
** building package indices ...
** testing if installed package can be loaded
mpm version 1.0-18
a4Base version 1.0.1
Warning messages:
1: replacing previous import 'head' when loading 'utils' 
2: replacing previous import 'tail' when loading 'utils' 
* MD5 sums
packaged installation of 'a4Base' as a4Base_1.0.1.zip
* DONE (a4Base)